BEGIN:VCALENDAR
VERSION:2.0
PRODID:-//Esther Pauchard - ECPv6.15.20//NONSGML v1.0//EN
CALSCALE:GREGORIAN
METHOD:PUBLISH
X-WR-CALNAME:Esther Pauchard
X-ORIGINAL-URL:https://esther-pauchard.ch
X-WR-CALDESC:Veranstaltungen für Esther Pauchard
REFRESH-INTERVAL;VALUE=DURATION:PT1H
X-Robots-Tag:noindex
X-PUBLISHED-TTL:PT1H
BEGIN:VTIMEZONE
TZID:Europe/Zurich
BEGIN:DAYLIGHT
TZOFFSETFROM:+0100
TZOFFSETTO:+0200
TZNAME:CEST
DTSTART:20250330T010000
END:DAYLIGHT
BEGIN:STANDARD
TZOFFSETFROM:+0200
TZOFFSETTO:+0100
TZNAME:CET
DTSTART:20251026T010000
END:STANDARD
BEGIN:DAYLIGHT
TZOFFSETFROM:+0100
TZOFFSETTO:+0200
TZNAME:CEST
DTSTART:20260329T010000
END:DAYLIGHT
BEGIN:STANDARD
TZOFFSETFROM:+0200
TZOFFSETTO:+0100
TZNAME:CET
DTSTART:20261025T010000
END:STANDARD
BEGIN:DAYLIGHT
TZOFFSETFROM:+0100
TZOFFSETTO:+0200
TZNAME:CEST
DTSTART:20270328T010000
END:DAYLIGHT
BEGIN:STANDARD
TZOFFSETFROM:+0200
TZOFFSETTO:+0100
TZNAME:CET
DTSTART:20271031T010000
END:STANDARD
END:VTIMEZONE
BEGIN:VEVENT
DTSTART;TZID=Europe/Zurich:20260825T190000
DTEND;TZID=Europe/Zurich:20260825T200000
DTSTAMP:20260420T121452
CREATED:20260223T102641Z
LAST-MODIFIED:20260223T102641Z
UID:2008-1787684400-1787688000@esther-pauchard.ch
SUMMARY:Lesung über "Jenseits der Sprechstunde" und "Baustelle Menschsein" in Heimberg
DESCRIPTION:Neben der Lesung über meine beiden Ratgeber gewähre ich einen Einblick in den neuen Krimi „Jenseits des Zorns“\, der ab Anfang September in den Buchhandlungen erhältlich sein wird. \nOrganisiert wird der Anlass durch die Frauenvereine Heimberg und Uetendorf. \nDer Eintritt ist frei\, Kollekte\, Anmeldung nicht notwendig.
URL:https://esther-pauchard.ch/event/lesung-ueber-jenseits-der-sprechstunde-und-baustelle-menschsein-in-heimberg/
LOCATION:Aula Heimberg\, Schulstrasse 14\, Heimberg\, 3613
END:VEVENT
END:VCALENDAR